BEGIN:VCALENDAR
VERSION:2.0
PRODID:-//Sogn og Fjordanelaget i Oslo - ECPv6.15.20//NONSGML v1.0//EN
CALSCALE:GREGORIAN
METHOD:PUBLISH
X-ORIGINAL-URL:https://www.sognogfjordanelaget.no
X-WR-CALDESC:Hendingar for Sogn og Fjordanelaget i Oslo
REFRESH-INTERVAL;VALUE=DURATION:PT1H
X-Robots-Tag:noindex
X-PUBLISHED-TTL:PT1H
BEGIN:VTIMEZONE
TZID:Europe/Oslo
BEGIN:DAYLIGHT
TZOFFSETFROM:+0100
TZOFFSETTO:+0200
TZNAME:CEST
DTSTART:20180325T010000
END:DAYLIGHT
BEGIN:STANDARD
TZOFFSETFROM:+0200
TZOFFSETTO:+0100
TZNAME:CET
DTSTART:20181028T010000
END:STANDARD
BEGIN:DAYLIGHT
TZOFFSETFROM:+0100
TZOFFSETTO:+0200
TZNAME:CEST
DTSTART:20190331T010000
END:DAYLIGHT
BEGIN:STANDARD
TZOFFSETFROM:+0200
TZOFFSETTO:+0100
TZNAME:CET
DTSTART:20191027T010000
END:STANDARD
BEGIN:DAYLIGHT
TZOFFSETFROM:+0100
TZOFFSETTO:+0200
TZNAME:CEST
DTSTART:20200329T010000
END:DAYLIGHT
BEGIN:STANDARD
TZOFFSETFROM:+0200
TZOFFSETTO:+0100
TZNAME:CET
DTSTART:20201025T010000
END:STANDARD
END:VTIMEZONE
BEGIN:VEVENT
DTSTART;VALUE=DATE:20190706
DTEND;VALUE=DATE:20190707
DTSTAMP:20260419T152604
CREATED:20190609T224154Z
LAST-MODIFIED:20190609T224154Z
UID:10000038-1562371200-1562457599@www.sognogfjordanelaget.no
SUMMARY:Hilmars bursdag
DESCRIPTION:Vi feirer Hilmars bursdaG
URL:https://www.sognogfjordanelaget.no/aktivitet/hilmars-bursdag/
LOCATION:Lysebo
END:VEVENT
END:VCALENDAR