BEGIN:VCALENDAR
VERSION:2.0
PRODID:-//Sogn og Fjordanelaget i Oslo - ECPv6.15.20//NONSGML v1.0//EN
CALSCALE:GREGORIAN
METHOD:PUBLISH
X-WR-CALNAME:Sogn og Fjordanelaget i Oslo
X-ORIGINAL-URL:https://www.sognogfjordanelaget.no
X-WR-CALDESC:Hendingar for Sogn og Fjordanelaget i Oslo
REFRESH-INTERVAL;VALUE=DURATION:PT1H
X-Robots-Tag:noindex
X-PUBLISHED-TTL:PT1H
BEGIN:VTIMEZONE
TZID:Europe/Oslo
BEGIN:DAYLIGHT
TZOFFSETFROM:+0100
TZOFFSETTO:+0200
TZNAME:CEST
DTSTART:20240331T010000
END:DAYLIGHT
BEGIN:STANDARD
TZOFFSETFROM:+0200
TZOFFSETTO:+0100
TZNAME:CET
DTSTART:20241027T010000
END:STANDARD
BEGIN:DAYLIGHT
TZOFFSETFROM:+0100
TZOFFSETTO:+0200
TZNAME:CEST
DTSTART:20250330T010000
END:DAYLIGHT
BEGIN:STANDARD
TZOFFSETFROM:+0200
TZOFFSETTO:+0100
TZNAME:CET
DTSTART:20251026T010000
END:STANDARD
BEGIN:DAYLIGHT
TZOFFSETFROM:+0100
TZOFFSETTO:+0200
TZNAME:CEST
DTSTART:20260329T010000
END:DAYLIGHT
BEGIN:STANDARD
TZOFFSETFROM:+0200
TZOFFSETTO:+0100
TZNAME:CET
DTSTART:20261025T010000
END:STANDARD
END:VTIMEZONE
BEGIN:VEVENT
DTSTART;TZID=Europe/Oslo:20250427T120000
DTEND;TZID=Europe/Oslo:20250427T160000
DTSTAMP:20260420T012237
CREATED:20250409T082357Z
LAST-MODIFIED:20250413T214055Z
UID:10000080-1745755200-1745769600@www.sognogfjordanelaget.no
SUMMARY:Hyttedag på Nordfjordhytta
DESCRIPTION:Sogn og Fjordanelaget arrangerer ny hyttedag. Denne gongen legg vi turen til Nordfjordhytta. Hytta ligg på Eineåsen ovanfor Rykkinn i Bærum. Dørene er oppe kl. 12 -16. Det blir natursti og hesteskokasting for store og små. Og sjølvsagt kaffi og kaker. \nHytta ligg høgt og fint fram på åskanten med ei fantastisk utsikt over Bærum og Oslofjorden.\nTa gjerne med familie\, ein venn eller to.\nTuren opp går frå Busoppveien ved nr 3-11\, følg merking/skilt til Solfjellstua.\nNår du kjem opp til platået\, følg stien vidare 200 meter\, og du ser hytta oppe til venstre.\nBuss 160 tek deg til haldeplass Otto Rykkinnds vei i Pål Bergs vei.\nFølg Rykkinnveien opp til Busoppveien.\nParkering eventuelt i villaområdet der merka veg går opp.\n \nMeir info:\nhttps://www.sognogfjordanelaget.no\nHar du spørsmål\, ta kontakt med Nikolai Storevik eller Torkjell Sollid på Messenger.\nEller sms/tlf til Dagfinn Aa\, 45004933\n \nNytt høve til å bli kjent med hytta\, og få deg ein fin tur ut i marka.\n \nVelkomen til ein kjekk dag på Nordfjordhytta.\n \nMvh\nArr. komiteen
URL:https://www.sognogfjordanelaget.no/aktivitet/hyttedag-pa-nordfjordhytta/
END:VEVENT
END:VCALENDAR