BEGIN:VCALENDAR
VERSION:2.0
PRODID:-//Sogn og Fjordanelaget i Oslo - ECPv6.15.20//NONSGML v1.0//EN
CALSCALE:GREGORIAN
METHOD:PUBLISH
X-ORIGINAL-URL:https://www.sognogfjordanelaget.no
X-WR-CALDESC:Hendingar for Sogn og Fjordanelaget i Oslo
REFRESH-INTERVAL;VALUE=DURATION:PT1H
X-Robots-Tag:noindex
X-PUBLISHED-TTL:PT1H
BEGIN:VTIMEZONE
TZID:Europe/Oslo
BEGIN:DAYLIGHT
TZOFFSETFROM:+0100
TZOFFSETTO:+0200
TZNAME:CEST
DTSTART:20230326T010000
END:DAYLIGHT
BEGIN:STANDARD
TZOFFSETFROM:+0200
TZOFFSETTO:+0100
TZNAME:CET
DTSTART:20231029T010000
END:STANDARD
BEGIN:DAYLIGHT
TZOFFSETFROM:+0100
TZOFFSETTO:+0200
TZNAME:CEST
DTSTART:20240331T010000
END:DAYLIGHT
BEGIN:STANDARD
TZOFFSETFROM:+0200
TZOFFSETTO:+0100
TZNAME:CET
DTSTART:20241027T010000
END:STANDARD
BEGIN:DAYLIGHT
TZOFFSETFROM:+0100
TZOFFSETTO:+0200
TZNAME:CEST
DTSTART:20250330T010000
END:DAYLIGHT
BEGIN:STANDARD
TZOFFSETFROM:+0200
TZOFFSETTO:+0100
TZNAME:CET
DTSTART:20251026T010000
END:STANDARD
END:VTIMEZONE
BEGIN:VEVENT
DTSTART;TZID=Europe/Oslo:20240914T080000
DTEND;TZID=Europe/Oslo:20240914T180000
DTSTAMP:20260420T131450
CREATED:20240830T205836Z
LAST-MODIFIED:20240830T205836Z
UID:10000073-1726300800-1726336800@www.sognogfjordanelaget.no
SUMMARY:Soppvandring i Lillomarka
DESCRIPTION:Soppvandring i Lillomarka laurdag 14. september \nMerk! Ved påmelding så gi opp Sunnfjordlaget som medlemslag.\nVed ein feil er Sunnfjordlaget registrert istaden for Sogn og Fjordanelaget. \nBygdelagssamskipnaden (BLS)\, Valdreslaget\, Sørlandslaget og Sogn og Fjordanelaget i samarbeid med Oslo og omegn sopp- og nyttevekstforening (OOSN) inviterer til soppvandring i Lillomarka laurdag 14. september. Dette er oppfølging av suksessen med soppdagen under BLS-jubileet i fjor. Det er lagt opp til at deltakarane møtest på fastsette stader\, og så går på soppjakt på veg til ei av lagshyttene. Dei som vil til Sunnfjordhytta (Pustut)\, møter på Movatn stasjon kl. 10:15. Dei som vil til Valdreshytta\, møter på Snippen stasjon kl. 10:05\, og dei som vil til Sørlandshytta\, møter på P-plass/endestasjon for buss 56 på Solheimskogen kl. 10:00. Frammøtetidene på Snippen og Movatn er tilpassa tog frå Oslo S til Jaren kl. 9:44. \nVed desse møtestadane er det turleiarar i grøne vestar. På turen til hyttene går ein på soppjakt saman med turleiarane som er soppekspertar. Framme på hyttene vert det kort orientering om laga og hyttene. Det vert så informasjon om sopp\, og ein lagar og serverer soppsuppe. Det er lagt opp til at ein kan ta tog attende til Oslo S frå Movatn/Snippen litt før kl. 16:30. \nDet er ei avgrensing på 20 deltakarar på turen til Pustut. Det er ei deltakaravgift på kr 75. Påmelding og betaling skjer på \nhttps://oosn.soppognyttevekster.no/kalender \nDer er det meir informasjon om turane. \nDet er ingen påmeldingsfrist; prinsippet er «først til mølla». Er det fullt\, så er det fullt. Alle som vil vere med\, må melde seg på\, også medlemar av laga. \nVi vonar at mange\, både medlemar og andre\, vert med på soppvandringa.
URL:https://www.sognogfjordanelaget.no/aktivitet/soppvandring-i-lillomarka/
LOCATION:Pustut\, Sinoberveien 43\, Nittedal\, 1480\, Norway
END:VEVENT
BEGIN:VEVENT
DTSTART;TZID=Europe/Oslo:20240929T120000
DTEND;TZID=Europe/Oslo:20240929T160000
DTSTAMP:20260420T131450
CREATED:20240916T131608Z
LAST-MODIFIED:20240916T131608Z
UID:10000074-1727611200-1727625600@www.sognogfjordanelaget.no
SUMMARY:Hyttesøndag på Pustut 29. september
DESCRIPTION:
URL:https://www.sognogfjordanelaget.no/aktivitet/hyttesondag-pa-pustut-29-september/
LOCATION:Pustut\, Sinoberveien 43\, Nittedal\, 1480\, Norway
END:VEVENT
END:VCALENDAR