BEGIN:VCALENDAR
VERSION:2.0
PRODID:-//Sogn og Fjordanelaget i Oslo - ECPv6.15.20//NONSGML v1.0//EN
CALSCALE:GREGORIAN
METHOD:PUBLISH
X-ORIGINAL-URL:https://www.sognogfjordanelaget.no
X-WR-CALDESC:Hendingar for Sogn og Fjordanelaget i Oslo
REFRESH-INTERVAL;VALUE=DURATION:PT1H
X-Robots-Tag:noindex
X-PUBLISHED-TTL:PT1H
BEGIN:VTIMEZONE
TZID:Europe/Oslo
BEGIN:DAYLIGHT
TZOFFSETFROM:+0100
TZOFFSETTO:+0200
TZNAME:CEST
DTSTART:20220327T010000
END:DAYLIGHT
BEGIN:STANDARD
TZOFFSETFROM:+0200
TZOFFSETTO:+0100
TZNAME:CET
DTSTART:20221030T010000
END:STANDARD
BEGIN:DAYLIGHT
TZOFFSETFROM:+0100
TZOFFSETTO:+0200
TZNAME:CEST
DTSTART:20230326T010000
END:DAYLIGHT
BEGIN:STANDARD
TZOFFSETFROM:+0200
TZOFFSETTO:+0100
TZNAME:CET
DTSTART:20231029T010000
END:STANDARD
BEGIN:DAYLIGHT
TZOFFSETFROM:+0100
TZOFFSETTO:+0200
TZNAME:CEST
DTSTART:20240331T010000
END:DAYLIGHT
BEGIN:STANDARD
TZOFFSETFROM:+0200
TZOFFSETTO:+0100
TZNAME:CET
DTSTART:20241027T010000
END:STANDARD
END:VTIMEZONE
BEGIN:VEVENT
DTSTART;TZID=Europe/Oslo:20231104T180000
DTEND;TZID=Europe/Oslo:20231104T235900
DTSTAMP:20260421T055333
CREATED:20230903T171554Z
LAST-MODIFIED:20231102T103741Z
UID:10000066-1699120800-1699142340@www.sognogfjordanelaget.no
SUMMARY:Smalahovegilde på Pustut
DESCRIPTION:Haustens høgdepunkt for matglade lagsfolk er\nSmalahovegildet på Sunnfjordhytta laurdag 4. november\nSom vanleg vert det servert svidne smalahove med poteter\, kålrot\, gulrot\n– og flatbrød til. Maten skal vere klar til kl. 18.00. Kom gjerne i god tid\,\ndet tek til å myrkne tidleg på kveld no. Ta med høveleg drikke til middagen. \nVi held prisen uendra på kr 225 per person.\nBetal gjerne til laget sin konto: 0531 27 71723\nPåmelding seinast tysdag 31.10. til Agnar Hegrenes\n(Agnar.Hegrenes@outlook.com\, tlf. 924 96 438) eller Andor Gjelsvik\n(andorgj@online.no\, tlf. 915 51 058). Dei kan også fortelje korleis du kjem\ndeg til hytta. Sunnfjordhytta Pustut ligg ved Ormetjern\, nær Sinober i Lillo-\nmarka. Meir info om hytta og korleis du kjem deg dit\, finn du også på nett: \n\nPustut \n\nDei som vil overnatte til søndag\, tek med litt frukostmat.
URL:https://www.sognogfjordanelaget.no/aktivitet/smalahovegilde-pa-pustut-2/
END:VEVENT
END:VCALENDAR