BEGIN:VCALENDAR
VERSION:2.0
PRODID:-//Sogn og Fjordanelaget i Oslo - ECPv6.15.20//NONSGML v1.0//EN
CALSCALE:GREGORIAN
METHOD:PUBLISH
X-WR-CALNAME:Sogn og Fjordanelaget i Oslo
X-ORIGINAL-URL:https://www.sognogfjordanelaget.no
X-WR-CALDESC:Hendingar for Sogn og Fjordanelaget i Oslo
REFRESH-INTERVAL;VALUE=DURATION:PT1H
X-Robots-Tag:noindex
X-PUBLISHED-TTL:PT1H
BEGIN:VTIMEZONE
TZID:Europe/Oslo
BEGIN:DAYLIGHT
TZOFFSETFROM:+0100
TZOFFSETTO:+0200
TZNAME:CEST
DTSTART:20220327T010000
END:DAYLIGHT
BEGIN:STANDARD
TZOFFSETFROM:+0200
TZOFFSETTO:+0100
TZNAME:CET
DTSTART:20221030T010000
END:STANDARD
BEGIN:DAYLIGHT
TZOFFSETFROM:+0100
TZOFFSETTO:+0200
TZNAME:CEST
DTSTART:20230326T010000
END:DAYLIGHT
BEGIN:STANDARD
TZOFFSETFROM:+0200
TZOFFSETTO:+0100
TZNAME:CET
DTSTART:20231029T010000
END:STANDARD
BEGIN:DAYLIGHT
TZOFFSETFROM:+0100
TZOFFSETTO:+0200
TZNAME:CEST
DTSTART:20240331T010000
END:DAYLIGHT
BEGIN:STANDARD
TZOFFSETFROM:+0200
TZOFFSETTO:+0100
TZNAME:CET
DTSTART:20241027T010000
END:STANDARD
END:VTIMEZONE
BEGIN:VEVENT
DTSTART;VALUE=DATE:20230930
DTEND;VALUE=DATE:20231002
DTSTAMP:20260421T073125
CREATED:20230903T170633Z
LAST-MODIFIED:20230926T121903Z
UID:10000064-1696032000-1696204799@www.sognogfjordanelaget.no
SUMMARY:Osteselskap på Nordfjordhytta
DESCRIPTION:Vi inviterer til hyttehelg med god mat og drikke og prat.\nTa med litt ost\, kjeks\, frukt og høveleg drikke til festmåltid kl. 19.00 laurdagskvelden.\nDei som blir over til søndag tar også med litt frukostmat til lang\, felles søndagsfrukost. \nVel møtt på hytta! \nHelsing hyttestyret v/Dagfinn Aa \n \n  \nInngår i hyttekarusellen til BLS. \nBLS Hyttekarusell i høve BLS 100 år. \nHyttekarusellen held fram utover hausten. Det gjeld å vitja flest mogleg av lagshyttene i løpet av jubileumsåret. Alle hyttene og vegen dit er omtalt i dokument som du finn på nettsida til BLS. Trekning av (fine) premiar blant deltakarane (komlemiddag\, tre retters middag\, konsert og teaterbillettar\, bøker). Vinnarane blir kunngjort i samband med Jubileumsframsyninga på Det norske teatret laurdag 28. oktober 2023. \nHyttebesøk skal registrerast ved å klikke inn på følgjande skjema: https://forms.office.com/r/G3uhgkSG2m. \nDet må sendast inn eitt skjema for kvar hytte ein besøkjer. Besøker ein fleire hytter på same dag kan ein krysse av for det i same skjema.
URL:https://www.sognogfjordanelaget.no/aktivitet/osteselskap-pa-nordfjordhytta-2/
LOCATION:Nordfjordhytta
END:VEVENT
BEGIN:VEVENT
DTSTART;VALUE=DATE:20231015
DTEND;VALUE=DATE:20231016
DTSTAMP:20260421T073125
CREATED:20230903T170850Z
LAST-MODIFIED:20231007T111519Z
UID:10000065-1697328000-1697414399@www.sognogfjordanelaget.no
SUMMARY:Hyttedag på Nordfjordhytta
DESCRIPTION:Sogn og Fjordanelaget arrangerar igjen en ny hyttedag\, denne gongen legger vi turen til Nordfjordhytta. Hytta ligger på Einåsen\, ovenfor Rykkin i Bærum. Dørene er oppe i tidsrommet kl. 12 -16. Det vert arrangert natursti for store og små\, servert kaffe og kaker.\nHytta ligger høyt og fint til frem på ås kanten og med en fantastisk utsikt over Bærum og ut Oslofjorden.\nTa gjerne med familie\, en venn eller to\,\nTuren opp går fra Busoppveien ved nr 3-11\, følg merking / skilt til Solfellstua / solfjellplatået.\nAlternativt benytt løypenettet til Einåsen skianlegg som utgangspunkt eller Gommerud idrettsanlegg. Orienter deg nærmere her.\nLysløyper og treningsløyper i Eineåsen | Skiforeningen\nNår du kommer opp til platået\, følg stien videre 200 meter og du ser hytta oppe til venstre.\nBuss 160 tar deg til haldeplass Otto Rykkinds vei i Pål Bergs vei.\nFølg Rykkinveien opp til Busoppveien\nParkering eventuelt i villa området hvor merket vei går opp.\nTomta til hytta ble kjøpt på 1960 tallet og hytta er satt opp på dugnad av tidligere medlemmer i laget. \nHar du spørsmål\,\nTa kontakt med Nikolai Storevik eller Torkjell Sollid på Messenger. \nBenytt anledningen til å bli kjent med hytta og mulighetene\, og få deg en fin tur ut i marka.\nVelkommen til en kjekk dag på Nordfjordhytta.\nmvh\narr. komiteen\nved Torkjell og Nikolai
URL:https://www.sognogfjordanelaget.no/aktivitet/open-dag-pa-nordfjordhytta/
LOCATION:Nordfjordhytta
END:VEVENT
BEGIN:VEVENT
DTSTART;TZID=Europe/Oslo:20231028T080000
DTEND;TZID=Europe/Oslo:20231028T190000
DTSTAMP:20260421T073125
CREATED:20231007T110453Z
LAST-MODIFIED:20231007T110453Z
UID:10000068-1698480000-1698519600@www.sognogfjordanelaget.no
SUMMARY:BLS 100 år - Festframsyning på Det Norske Teatret
DESCRIPTION:  \n \nFestframsyning i Det Norske Teatret for å feire BLS sitt 100-års jubileum!\nForestillinga byr på folkedans\, folkemusikk\, korsong\, leik og teater\, i ei humørfylt framsyning – bygd på aktivitetar som har prega lagslivet i Bygdelagssamskipnaden i Oslo (BLS) gjennom 100 år.\nNyskriven musikk og nyskrivne tekstar bind det heile saman\, og i orkesteret sit den kunstnarleg ansvarlege Vegar Vårdal saman med Tuva Færden og Frode Haltli.\nPå scenen står over 120 barn og vaksne frå Barnelaget\, Bygdelagskoret Blåne\, Songlaget i BUL\, Te-Nord\, Teaterlaget i BUL\, Symradern\, saman med hallingdansarar\, bygdedansarar og folkedansarar frå ulike lag i Bygdelagssamskipnaden.\nEtter framsyninga blir det dans til Østerdølenes Spellmannslag og lett servering i foajeen.\nBillettar kan kjøpast hos Det Norske Teatret\, tlf. 22424344 eller på\nhttps://www.detnorsketeatret.no/…/100-ar-med-bygder-i-byen\nPrisar:\nVaksne kr 460\,-\nUngdom til og med 25 år kr 230\,-\nBarn opp til 18 år kr 150\,-\nKom i festantrekk – gjerne bunad.\nVelkommen!\n\nFramsyninga er støtta av Kulturrådet\, Oslo kommune\, Fond for utøvende kunstnere og Sparebankstiftelsen DnB
URL:https://www.sognogfjordanelaget.no/aktivitet/bls-100-ar-festframsyning-pa-det-norske-teatret/
LOCATION:Det Norske Teatret
END:VEVENT
END:VCALENDAR