BEGIN:VCALENDAR
VERSION:2.0
PRODID:-//Sogn og Fjordanelaget i Oslo - ECPv6.15.20//NONSGML v1.0//EN
CALSCALE:GREGORIAN
METHOD:PUBLISH
X-WR-CALNAME:Sogn og Fjordanelaget i Oslo
X-ORIGINAL-URL:https://www.sognogfjordanelaget.no
X-WR-CALDESC:Hendingar for Sogn og Fjordanelaget i Oslo
REFRESH-INTERVAL;VALUE=DURATION:PT1H
X-Robots-Tag:noindex
X-PUBLISHED-TTL:PT1H
BEGIN:VTIMEZONE
TZID:Europe/Oslo
BEGIN:DAYLIGHT
TZOFFSETFROM:+0100
TZOFFSETTO:+0200
TZNAME:CEST
DTSTART:20220327T010000
END:DAYLIGHT
BEGIN:STANDARD
TZOFFSETFROM:+0200
TZOFFSETTO:+0100
TZNAME:CET
DTSTART:20221030T010000
END:STANDARD
BEGIN:DAYLIGHT
TZOFFSETFROM:+0100
TZOFFSETTO:+0200
TZNAME:CEST
DTSTART:20230326T010000
END:DAYLIGHT
BEGIN:STANDARD
TZOFFSETFROM:+0200
TZOFFSETTO:+0100
TZNAME:CET
DTSTART:20231029T010000
END:STANDARD
BEGIN:DAYLIGHT
TZOFFSETFROM:+0100
TZOFFSETTO:+0200
TZNAME:CEST
DTSTART:20240331T010000
END:DAYLIGHT
BEGIN:STANDARD
TZOFFSETFROM:+0200
TZOFFSETTO:+0100
TZNAME:CET
DTSTART:20241027T010000
END:STANDARD
END:VTIMEZONE
BEGIN:VEVENT
DTSTART;TZID=Europe/Oslo:20230905T190000
DTEND;TZID=Europe/Oslo:20230905T220000
DTSTAMP:20260421T091349
CREATED:20230903T172041Z
LAST-MODIFIED:20230903T172041Z
UID:10000067-1693940400-1693951200@www.sognogfjordanelaget.no
SUMMARY:Sogn og Fjordanringen startar haustsesongen
DESCRIPTION:Hjertelig velkommen til en ny sesong med dans og hygge.
URL:https://www.sognogfjordanelaget.no/aktivitet/sogn-og-fjordanringen-startar-haustsesongen/
END:VEVENT
BEGIN:VEVENT
DTSTART;VALUE=DATE:20230917
DTEND;VALUE=DATE:20230918
DTSTAMP:20260421T091349
CREATED:20230903T165708Z
LAST-MODIFIED:20230903T165708Z
UID:10000063-1694908800-1694995199@www.sognogfjordanelaget.no
SUMMARY:Open dag på Sunnfjordhytta
DESCRIPTION:
URL:https://www.sognogfjordanelaget.no/aktivitet/open-dag-pa-sunnfjordhytta/
LOCATION:Pustut\, Sinoberveien 43\, Nittedal\, 1480\, Norway
CATEGORIES:Hyttetur
END:VEVENT
BEGIN:VEVENT
DTSTART;VALUE=DATE:20230923
DTEND;VALUE=DATE:20230924
DTSTAMP:20260421T091349
CREATED:20230113T000404Z
LAST-MODIFIED:20230904T220713Z
UID:10000032-1695427200-1695513599@www.sognogfjordanelaget.no
SUMMARY:Soppdag på Pustut
DESCRIPTION:BLS på sopptur-laurdag 23. september \nI samarbeid med Oslo og omland sopp- og nyttevekstforening\, inviterer BLS til sopparrangemenet ved tre av lagshyttene i Lillomarka. \nDu kan velge mellom å gå til følgjande lagshytter: \nI) Sunnfjordhytta (Pustut). Frammøte Movatn stasjon  kl. 10.15 (tilpassa togavgang frå Oslo S 09.44) \nII) Hordahytta. Frammøte Snippen stasjon kl. 10.05 (tilpassa togavgang frå Oslo S 09.44) \nIII) Sørlandshytta. Frammøte Solemskogen P-plass/endehaldeplass for buss 56 kl. 10.00 (tilpassa avgang frå Nydalen/Storo 09.30) \nNærare opplysningar om arrangementet finn du på nettsida til BLS under “Komande hendingar” for datoen 23. september eller nettsida til OOSN under “Kalender” og datoen 23. september. \nFor alle turane krevs det påmelding gjennom nettsida til OOSN (https:oosn.no/kalender/Sep 23). Turen er gratis\, men du vert likevel bedt om å gå til “kassen”. Følg instruksane for påmelding- det er ikkje så komplisert som det ser ut til. \nVelkommen !
URL:https://www.sognogfjordanelaget.no/aktivitet/sopphelg-pa-pustut/
LOCATION:Pustut\, Sinoberveien 43\, Nittedal\, 1480\, Norway
END:VEVENT
BEGIN:VEVENT
DTSTART;VALUE=DATE:20230930
DTEND;VALUE=DATE:20231002
DTSTAMP:20260421T091349
CREATED:20230903T170633Z
LAST-MODIFIED:20230926T121903Z
UID:10000064-1696032000-1696204799@www.sognogfjordanelaget.no
SUMMARY:Osteselskap på Nordfjordhytta
DESCRIPTION:Vi inviterer til hyttehelg med god mat og drikke og prat.\nTa med litt ost\, kjeks\, frukt og høveleg drikke til festmåltid kl. 19.00 laurdagskvelden.\nDei som blir over til søndag tar også med litt frukostmat til lang\, felles søndagsfrukost. \nVel møtt på hytta! \nHelsing hyttestyret v/Dagfinn Aa \n \n  \nInngår i hyttekarusellen til BLS. \nBLS Hyttekarusell i høve BLS 100 år. \nHyttekarusellen held fram utover hausten. Det gjeld å vitja flest mogleg av lagshyttene i løpet av jubileumsåret. Alle hyttene og vegen dit er omtalt i dokument som du finn på nettsida til BLS. Trekning av (fine) premiar blant deltakarane (komlemiddag\, tre retters middag\, konsert og teaterbillettar\, bøker). Vinnarane blir kunngjort i samband med Jubileumsframsyninga på Det norske teatret laurdag 28. oktober 2023. \nHyttebesøk skal registrerast ved å klikke inn på følgjande skjema: https://forms.office.com/r/G3uhgkSG2m. \nDet må sendast inn eitt skjema for kvar hytte ein besøkjer. Besøker ein fleire hytter på same dag kan ein krysse av for det i same skjema.
URL:https://www.sognogfjordanelaget.no/aktivitet/osteselskap-pa-nordfjordhytta-2/
LOCATION:Nordfjordhytta
END:VEVENT
END:VCALENDAR