BEGIN:VCALENDAR
VERSION:2.0
PRODID:-//Sogn og Fjordanelaget i Oslo - ECPv6.15.20//NONSGML v1.0//EN
CALSCALE:GREGORIAN
METHOD:PUBLISH
X-WR-CALNAME:Sogn og Fjordanelaget i Oslo
X-ORIGINAL-URL:https://www.sognogfjordanelaget.no
X-WR-CALDESC:Hendingar for Sogn og Fjordanelaget i Oslo
REFRESH-INTERVAL;VALUE=DURATION:PT1H
X-Robots-Tag:noindex
X-PUBLISHED-TTL:PT1H
BEGIN:VTIMEZONE
TZID:Europe/Oslo
BEGIN:DAYLIGHT
TZOFFSETFROM:+0100
TZOFFSETTO:+0200
TZNAME:CEST
DTSTART:20220327T010000
END:DAYLIGHT
BEGIN:STANDARD
TZOFFSETFROM:+0200
TZOFFSETTO:+0100
TZNAME:CET
DTSTART:20221030T010000
END:STANDARD
BEGIN:DAYLIGHT
TZOFFSETFROM:+0100
TZOFFSETTO:+0200
TZNAME:CEST
DTSTART:20230326T010000
END:DAYLIGHT
BEGIN:STANDARD
TZOFFSETFROM:+0200
TZOFFSETTO:+0100
TZNAME:CET
DTSTART:20231029T010000
END:STANDARD
BEGIN:DAYLIGHT
TZOFFSETFROM:+0100
TZOFFSETTO:+0200
TZNAME:CEST
DTSTART:20240331T010000
END:DAYLIGHT
BEGIN:STANDARD
TZOFFSETFROM:+0200
TZOFFSETTO:+0100
TZNAME:CET
DTSTART:20241027T010000
END:STANDARD
END:VTIMEZONE
BEGIN:VEVENT
DTSTART;TZID=Europe/Oslo:20230514T080000
DTEND;TZID=Europe/Oslo:20230514T170000
DTSTAMP:20260421T150920
CREATED:20230112T235502Z
LAST-MODIFIED:20230507T090148Z
UID:10000053-1684051200-1684083600@www.sognogfjordanelaget.no
SUMMARY:UTSETT TIL 18. JUNI     5 på ein dag - Hytte til hytte i Lillomarka8
DESCRIPTION:UTSETT til 18.juni \nI høve BLS 100 års jubileum vert tur frå hytte til hytte i Lillomarka.\nVi skal innom\nSørlandshytta\nHordahytta\nValdreshytta (Buvollen)\nPustut\nHallingbu \nMeir info kjem seinare
URL:https://www.sognogfjordanelaget.no/aktivitet/5-pa-ein-dag-hytte-til-hytte-i-lillomarka/
LOCATION:Pustut\, Sinoberveien 43\, Nittedal\, 1480\, Norway
END:VEVENT
BEGIN:VEVENT
DTSTART;TZID=Europe/Oslo:20230520T150000
DTEND;TZID=Europe/Oslo:20230521T170000
DTSTAMP:20260421T150920
CREATED:20230112T235833Z
LAST-MODIFIED:20230513T193840Z
UID:10000062-1684594800-1684688400@www.sognogfjordanelaget.no
SUMMARY:Rekeselskap på Nordfjordhytta
DESCRIPTION:Rekeselskap på Nordfjordhytta \n20-21 mai  \nI tråd med årelang tradisjon inviterer vi til hyttehelg med god mat og drikke og prat.\nTa med reker og høveleg drikke til festmåltid laurdagskvelden kl. 19.\nTa også med litt frukostmat til lang felles frukost søndag. \nVel møtt på hytta! \nHelsing hyttestyret v/ Dagfinn Aa
URL:https://www.sognogfjordanelaget.no/aktivitet/rekeselskap-pa-nordfjordhytta/
END:VEVENT
END:VCALENDAR