BEGIN:VCALENDAR
VERSION:2.0
PRODID:-//Sogn og Fjordanelaget i Oslo - ECPv6.15.20//NONSGML v1.0//EN
CALSCALE:GREGORIAN
METHOD:PUBLISH
X-ORIGINAL-URL:https://www.sognogfjordanelaget.no
X-WR-CALDESC:Hendingar for Sogn og Fjordanelaget i Oslo
REFRESH-INTERVAL;VALUE=DURATION:PT1H
X-Robots-Tag:noindex
X-PUBLISHED-TTL:PT1H
BEGIN:VTIMEZONE
TZID:Europe/Oslo
BEGIN:DAYLIGHT
TZOFFSETFROM:+0100
TZOFFSETTO:+0200
TZNAME:CEST
DTSTART:20220327T010000
END:DAYLIGHT
BEGIN:STANDARD
TZOFFSETFROM:+0200
TZOFFSETTO:+0100
TZNAME:CET
DTSTART:20221030T010000
END:STANDARD
BEGIN:DAYLIGHT
TZOFFSETFROM:+0100
TZOFFSETTO:+0200
TZNAME:CEST
DTSTART:20230326T010000
END:DAYLIGHT
BEGIN:STANDARD
TZOFFSETFROM:+0200
TZOFFSETTO:+0100
TZNAME:CET
DTSTART:20231029T010000
END:STANDARD
BEGIN:DAYLIGHT
TZOFFSETFROM:+0100
TZOFFSETTO:+0200
TZNAME:CEST
DTSTART:20240331T010000
END:DAYLIGHT
BEGIN:STANDARD
TZOFFSETFROM:+0200
TZOFFSETTO:+0100
TZNAME:CET
DTSTART:20241027T010000
END:STANDARD
END:VTIMEZONE
BEGIN:VEVENT
DTSTART;TZID=Europe/Oslo:20230223T180000
DTEND;TZID=Europe/Oslo:20230223T220000
DTSTAMP:20260421T194259
CREATED:20230112T234450Z
LAST-MODIFIED:20230209T105214Z
UID:10000057-1677175200-1677189600@www.sognogfjordanelaget.no
SUMMARY:Årsmøte i Sogn og Fjordanelaget
DESCRIPTION:Velkommen til årsmøte \ni møterommet Hulda i Bygdelagshuset\nNordahl Bruns gate 22
URL:https://www.sognogfjordanelaget.no/aktivitet/arsmote-i-sogn-og-fjordanelaget/
LOCATION:Møterom\, Nordahl Bruns gate 22
GEO:59.9185734;10.7382801
X-APPLE-STRUCTURED-LOCATION;VALUE=URI;X-ADDRESS=Møterom Nordahl Bruns gate 22;X-APPLE-RADIUS=500;X-TITLE=Nordahl Bruns gate 22:geo:10.7382801,59.9185734
END:VEVENT
BEGIN:VEVENT
DTSTART;TZID=Europe/Oslo:20230226T120000
DTEND;TZID=Europe/Oslo:20230226T153000
DTSTAMP:20260421T194259
CREATED:20230112T234618Z
LAST-MODIFIED:20230221T142644Z
UID:10000056-1677412800-1677425400@www.sognogfjordanelaget.no
SUMMARY:Hyttesøndag på Nordfjordhytta
DESCRIPTION:Velkomen til Nordfjordhytta ! \nDet er folk på hytta med kaffien klar frå ca 12.00 og utover til ca 15.30.\nHytta ligg på Eineåsen over Rykkinn i Bærum. \nDet er ein fin skitur frå Gullhaug i Eineåsen skianlegg sine lysløyper og vidare til hytta.\nSjå kart  Eineåsen skianlegg\nBuss 150 Gullhaug frå Oslo Bussterminal til endeholdeplass nær skianlegget på Gullhaug.\nAvgang frå Oslo bussterminal 09.18\, 09.48 osv. Parkering: sjå kartet. \nOm det ikkje er snø kan du nytte sommarstien frå Rykkinn.\nSjå kart: https://www.sognogfjordaneringen.no/nordfjordhytta/ \n 
URL:https://www.sognogfjordanelaget.no/aktivitet/hyttesondag-pa-nordfjordhytta/
END:VEVENT
END:VCALENDAR