BEGIN:VCALENDAR
VERSION:2.0
PRODID:-//Sogn og Fjordanelaget i Oslo - ECPv6.15.20//NONSGML v1.0//EN
CALSCALE:GREGORIAN
METHOD:PUBLISH
X-ORIGINAL-URL:https://www.sognogfjordanelaget.no
X-WR-CALDESC:Hendingar for Sogn og Fjordanelaget i Oslo
REFRESH-INTERVAL;VALUE=DURATION:PT1H
X-Robots-Tag:noindex
X-PUBLISHED-TTL:PT1H
BEGIN:VTIMEZONE
TZID:Europe/Oslo
BEGIN:DAYLIGHT
TZOFFSETFROM:+0100
TZOFFSETTO:+0200
TZNAME:CEST
DTSTART:20220327T010000
END:DAYLIGHT
BEGIN:STANDARD
TZOFFSETFROM:+0200
TZOFFSETTO:+0100
TZNAME:CET
DTSTART:20221030T010000
END:STANDARD
BEGIN:DAYLIGHT
TZOFFSETFROM:+0100
TZOFFSETTO:+0200
TZNAME:CEST
DTSTART:20230326T010000
END:DAYLIGHT
BEGIN:STANDARD
TZOFFSETFROM:+0200
TZOFFSETTO:+0100
TZNAME:CET
DTSTART:20231029T010000
END:STANDARD
BEGIN:DAYLIGHT
TZOFFSETFROM:+0100
TZOFFSETTO:+0200
TZNAME:CEST
DTSTART:20240331T010000
END:DAYLIGHT
BEGIN:STANDARD
TZOFFSETFROM:+0200
TZOFFSETTO:+0100
TZNAME:CET
DTSTART:20241027T010000
END:STANDARD
END:VTIMEZONE
BEGIN:VEVENT
DTSTART;TZID=Europe/Oslo:20230123T190000
DTEND;TZID=Europe/Oslo:20230123T210000
DTSTAMP:20260421T211726
CREATED:20230112T233721Z
LAST-MODIFIED:20230112T233721Z
UID:10000059-1674500400-1674507600@www.sognogfjordanelaget.no
SUMMARY:Styremøte i Sogn og Fjordanelaget
DESCRIPTION:
URL:https://www.sognogfjordanelaget.no/aktivitet/styremote-i-sogn-og-fjordanelaget/
LOCATION:Møterom\, Nordahl Bruns gate 22
GEO:59.9185734;10.7382801
X-APPLE-STRUCTURED-LOCATION;VALUE=URI;X-ADDRESS=Møterom Nordahl Bruns gate 22;X-APPLE-RADIUS=500;X-TITLE=Nordahl Bruns gate 22:geo:10.7382801,59.9185734
END:VEVENT
BEGIN:VEVENT
DTSTART;TZID=Europe/Oslo:20230124T190000
DTEND;TZID=Europe/Oslo:20230124T210000
DTSTAMP:20260421T211727
CREATED:20230112T232225Z
LAST-MODIFIED:20230113T001000Z
UID:10000060-1674586800-1674594000@www.sognogfjordanelaget.no
SUMMARY:Årsmøte i Sogn og Fjordaneringen
DESCRIPTION:ÅRSMØTE I SOGN OG FJORDANERINGEN 2023 \nTysdag 24. januar 2023 kl. 19.00 i Halli\nSakliste: \n1.  Opning\, val av ordstyrar\n2.  Godkjenning av innkalling\n3.  Val av skrivar\, protokollvitne og teljekorps\n4.  Godkjenning av sakliste\n5.  Årsmelding for 2022\n6.  Årsrekneskap for 2022\n7.  Framtida for Ringen.\n    * Forslag frå styret (sjå Tankar om framtida til ringen)\n    * Forslag frå valnemnda (sjå eige dokument)\n8.  Arbeidsplan for 1. halvår 2023\n9.  Budsjett og årspengar for 2023\n10. Val (avhengig av resultatet frå sak 7).\n   * Alt 1. Utsett til ekstra årsmøte tidleg på hausten (styret sitt forslag)\n   * Alt 2. Vedta prøveordninge med berre 2 styremedlemar\n       (valnemda sitt forslag til ny styringsmodell).
URL:https://www.sognogfjordanelaget.no/aktivitet/arsmote-i-sogn-og-fjordaneringen/
END:VEVENT
BEGIN:VEVENT
DTSTART;TZID=Europe/Oslo:20230129T120000
DTEND;TZID=Europe/Oslo:20230129T160000
DTSTAMP:20260421T211727
CREATED:20230112T234200Z
LAST-MODIFIED:20230124T151817Z
UID:10000058-1674993600-1675008000@www.sognogfjordanelaget.no
SUMMARY:Hyttesøndag på Pustut
DESCRIPTION:Velkomen til Hyttesøndag på Pustut\nHytta er open frå om lag 12.00 til om lag 15.30.\nKaffi med noko attåt får du\, men ta gjerne med eiga niste.\nDet er rikeleg med snø i marka og flott skiføre.\nHytta ligg nær Sinober sportsstue (i retning Snippen)\,\nog dit går det mange flotte løyper gjennom Lillomarka.\nKortaste turen er frå Snippen eller Movatn stasjon.\nTog frå Oslo S kl 9.44 og 11.44. Ruters sone 1 billett.
URL:https://www.sognogfjordanelaget.no/aktivitet/hyttesondag-pa-pustut/
LOCATION:Pustut\, Sinoberveien 43\, Nittedal\, 1480\, Norway
END:VEVENT
END:VCALENDAR