BEGIN:VCALENDAR
VERSION:2.0
PRODID:-//Sogn og Fjordanelaget i Oslo - ECPv6.15.20//NONSGML v1.0//EN
CALSCALE:GREGORIAN
METHOD:PUBLISH
X-WR-CALNAME:Sogn og Fjordanelaget i Oslo
X-ORIGINAL-URL:https://www.sognogfjordanelaget.no
X-WR-CALDESC:Hendingar for Sogn og Fjordanelaget i Oslo
REFRESH-INTERVAL;VALUE=DURATION:PT1H
X-Robots-Tag:noindex
X-PUBLISHED-TTL:PT1H
BEGIN:VTIMEZONE
TZID:Europe/Oslo
BEGIN:DAYLIGHT
TZOFFSETFROM:+0100
TZOFFSETTO:+0200
TZNAME:CEST
DTSTART:20210328T010000
END:DAYLIGHT
BEGIN:STANDARD
TZOFFSETFROM:+0200
TZOFFSETTO:+0100
TZNAME:CET
DTSTART:20211031T010000
END:STANDARD
BEGIN:DAYLIGHT
TZOFFSETFROM:+0100
TZOFFSETTO:+0200
TZNAME:CEST
DTSTART:20220327T010000
END:DAYLIGHT
BEGIN:STANDARD
TZOFFSETFROM:+0200
TZOFFSETTO:+0100
TZNAME:CET
DTSTART:20221030T010000
END:STANDARD
BEGIN:DAYLIGHT
TZOFFSETFROM:+0100
TZOFFSETTO:+0200
TZNAME:CEST
DTSTART:20230326T010000
END:DAYLIGHT
BEGIN:STANDARD
TZOFFSETFROM:+0200
TZOFFSETTO:+0100
TZNAME:CET
DTSTART:20231029T010000
END:STANDARD
END:VTIMEZONE
BEGIN:VEVENT
DTSTART;TZID=Europe/Oslo:20221001T190000
DTEND;TZID=Europe/Oslo:20221002T000000
DTSTAMP:20260422T013946
CREATED:20220918T153745Z
LAST-MODIFIED:20220918T160206Z
UID:10000045-1664650800-1664668800@www.sognogfjordanelaget.no
SUMMARY:Osteselskap på Nordfjordhytta
DESCRIPTION:Osteselskap på Nordfjordhytta\nSjå Innbyding   \n\n  \n 
URL:https://www.sognogfjordanelaget.no/aktivitet/osteselskap-og-pa-nordfjordhyttahytte/
LOCATION:Nordfjordhytta
CATEGORIES:Hyttetur
END:VEVENT
BEGIN:VEVENT
DTSTART;TZID=Europe/Oslo:20221002T120000
DTEND;TZID=Europe/Oslo:20221002T160000
DTSTAMP:20260422T013946
CREATED:20220918T160852Z
LAST-MODIFIED:20220918T161116Z
UID:10000044-1664712000-1664726400@www.sognogfjordanelaget.no
SUMMARY:Open hytte på Nordfjordhytta
DESCRIPTION:Ei innbyding til noverande og tidlegare medlemar\ni Sogn og Fjordanelaget og Sogn og Fjordaneringen\nSjå Innbyding \n  \n 
URL:https://www.sognogfjordanelaget.no/aktivitet/open-hytte-pa-nordfjordhytta/
LOCATION:Nordfjordhytta
CATEGORIES:Hyttetur
END:VEVENT
END:VCALENDAR