BEGIN:VCALENDAR
VERSION:2.0
PRODID:-//Sogn og Fjordanelaget i Oslo - ECPv6.15.20//NONSGML v1.0//EN
CALSCALE:GREGORIAN
METHOD:PUBLISH
X-WR-CALNAME:Sogn og Fjordanelaget i Oslo
X-ORIGINAL-URL:https://www.sognogfjordanelaget.no
X-WR-CALDESC:Hendingar for Sogn og Fjordanelaget i Oslo
REFRESH-INTERVAL;VALUE=DURATION:PT1H
X-Robots-Tag:noindex
X-PUBLISHED-TTL:PT1H
BEGIN:VTIMEZONE
TZID:Europe/Oslo
BEGIN:DAYLIGHT
TZOFFSETFROM:+0100
TZOFFSETTO:+0200
TZNAME:CEST
DTSTART:20210328T010000
END:DAYLIGHT
BEGIN:STANDARD
TZOFFSETFROM:+0200
TZOFFSETTO:+0100
TZNAME:CET
DTSTART:20211031T010000
END:STANDARD
BEGIN:DAYLIGHT
TZOFFSETFROM:+0100
TZOFFSETTO:+0200
TZNAME:CEST
DTSTART:20220327T010000
END:DAYLIGHT
BEGIN:STANDARD
TZOFFSETFROM:+0200
TZOFFSETTO:+0100
TZNAME:CET
DTSTART:20221030T010000
END:STANDARD
BEGIN:DAYLIGHT
TZOFFSETFROM:+0100
TZOFFSETTO:+0200
TZNAME:CEST
DTSTART:20230326T010000
END:DAYLIGHT
BEGIN:STANDARD
TZOFFSETFROM:+0200
TZOFFSETTO:+0100
TZNAME:CET
DTSTART:20231029T010000
END:STANDARD
END:VTIMEZONE
BEGIN:VEVENT
DTSTART;TZID=Europe/Oslo:20220501T120000
DTEND;TZID=Europe/Oslo:20220501T170000
DTSTAMP:20260422T093001
CREATED:20220430T142511Z
LAST-MODIFIED:20220430T142511Z
UID:10000047-1651406400-1651424400@www.sognogfjordanelaget.no
SUMMARY:Hyttedag på Pustut
DESCRIPTION:Velkomen til Pustut 1. mai \nHyttestyret innbyr til åpen hytte søndag 1. mai. \nKom til varm hytte og kaffi og møt vener og kjende.\nMen det blir ikkje 1.maitog. \nDet vårast på Pustut\, men det kan framleis vere snø i terrenget rundt hytta.\nDet er likevel greit å gå til fots frå Snippen og frå Sagtomta i Nittedal \nSjå meir info og kart i menyen «Hyttene/Pustut».
URL:https://www.sognogfjordanelaget.no/aktivitet/hyttedag-pa-pustut/
END:VEVENT
BEGIN:VEVENT
DTSTART;TZID=Europe/Oslo:20220517T120000
DTEND;TZID=Europe/Oslo:20220517T170000
DTSTAMP:20260422T093001
CREATED:20220302T000208Z
LAST-MODIFIED:20220309T150238Z
UID:10000049-1652788800-1652806800@www.sognogfjordanelaget.no
SUMMARY:17nde mai-feiring på Nordfjordhytta
DESCRIPTION:Vi inviterer til 17. mai-feiring på Nordfjordhytta\nMeir om programmet seinare
URL:https://www.sognogfjordanelaget.no/aktivitet/17nde-mai-feiring/
LOCATION:Nordfjordhytta
END:VEVENT
BEGIN:VEVENT
DTSTART;TZID=Europe/Oslo:20220528T170000
DTEND;TZID=Europe/Oslo:20220529T170000
DTSTAMP:20260422T093001
CREATED:20220302T000454Z
LAST-MODIFIED:20220309T150035Z
UID:10000048-1653757200-1653843600@www.sognogfjordanelaget.no
SUMMARY:Rekelag på Nordfjordhytta
DESCRIPTION:Vi inviterer til det tradisjonelle rekelaget på Nordfjordhytta\nMeir info seinare
URL:https://www.sognogfjordanelaget.no/aktivitet/rekelag/
LOCATION:Nordfjordhytta
END:VEVENT
END:VCALENDAR