BEGIN:VCALENDAR
VERSION:2.0
PRODID:-//Sogn og Fjordanelaget i Oslo - ECPv6.15.20//NONSGML v1.0//EN
CALSCALE:GREGORIAN
METHOD:PUBLISH
X-ORIGINAL-URL:https://www.sognogfjordanelaget.no
X-WR-CALDESC:Hendingar for Sogn og Fjordanelaget i Oslo
REFRESH-INTERVAL;VALUE=DURATION:PT1H
X-Robots-Tag:noindex
X-PUBLISHED-TTL:PT1H
BEGIN:VTIMEZONE
TZID:Europe/Oslo
BEGIN:DAYLIGHT
TZOFFSETFROM:+0100
TZOFFSETTO:+0200
TZNAME:CEST
DTSTART:20210328T010000
END:DAYLIGHT
BEGIN:STANDARD
TZOFFSETFROM:+0200
TZOFFSETTO:+0100
TZNAME:CET
DTSTART:20211031T010000
END:STANDARD
BEGIN:DAYLIGHT
TZOFFSETFROM:+0100
TZOFFSETTO:+0200
TZNAME:CEST
DTSTART:20220327T010000
END:DAYLIGHT
BEGIN:STANDARD
TZOFFSETFROM:+0200
TZOFFSETTO:+0100
TZNAME:CET
DTSTART:20221030T010000
END:STANDARD
BEGIN:DAYLIGHT
TZOFFSETFROM:+0100
TZOFFSETTO:+0200
TZNAME:CEST
DTSTART:20230326T010000
END:DAYLIGHT
BEGIN:STANDARD
TZOFFSETFROM:+0200
TZOFFSETTO:+0100
TZNAME:CET
DTSTART:20231029T010000
END:STANDARD
END:VTIMEZONE
BEGIN:VEVENT
DTSTART;TZID=Europe/Oslo:20220326T120000
DTEND;TZID=Europe/Oslo:20220326T170000
DTSTAMP:20260422T122735
CREATED:20220301T214246Z
LAST-MODIFIED:20220313T171158Z
UID:10000050-1648296000-1648314000@www.sognogfjordanelaget.no
SUMMARY:Hyttedag på Pustut laurdag 26. mars
DESCRIPTION:Velkomen til Pustut\nHyttestyret inviterer til åpen hytte laurdag 26. mars\nKom til varm hytte og kaffi og møt vener og kjende. Ta med mat.\nDu kan gjerne overnatte. Ta då med sovepose og det du elles treng\nTa kontakt med hyttestyret om du ikkje er kjend.\nFinn kontaktperson i menyen «Kontakt oss»\nPustut ligg ved Ormetjern i Lillomarka. Pos. 60.025738\, 10.836319\nGå frå Sinober sportsstue i retning Snippen ca 5 min.\nSjå meir info og kart i menyen «Hyttene/Pustut».
URL:https://www.sognogfjordanelaget.no/aktivitet/velkomen-til-pustut/
LOCATION:Pustut\, Sinoberveien 43\, Nittedal\, 1480\, Norway
END:VEVENT
END:VCALENDAR